BEGIN:VCALENDAR
VERSION:2.0
PRODID:-//The Textile Society - ECPv5.16.4//NONSGML v1.0//EN
CALSCALE:GREGORIAN
METHOD:PUBLISH
X-WR-CALNAME:The Textile Society
X-ORIGINAL-URL:https://www.textilesociety.org.uk
X-WR-CALDESC:Events for The Textile Society
BEGIN:VTIMEZONE
TZID:Europe/London
BEGIN:DAYLIGHT
TZOFFSETFROM:+0000
TZOFFSETTO:+0100
TZNAME:BST
DTSTART:20230326T010000
END:DAYLIGHT
BEGIN:STANDARD
TZOFFSETFROM:+0100
TZOFFSETTO:+0000
TZNAME:GMT
DTSTART:20231029T010000
END:STANDARD
END:VTIMEZONE
BEGIN:VEVENT
DTSTART;TZID=Europe/London:20230405T080000
DTEND;TZID=Europe/London:20231029T170000
DTSTAMP:20260423T103601
CREATED:20231006T131643Z
LAST-MODIFIED:20231006T131643Z
UID:18659-1680681600-1698598800@www.textilesociety.org.uk
SUMMARY:Crown to Couture
DESCRIPTION:The exhibition draws fascinating parallels between the world of today’s red carpet and the Georgian Royal Court in the 18th century.\n\n\n\n\n\n\n\n\n\n\n\n\n\n\nThis brand-new fashion exhibition for 2023 takes over Kensington Palace’s State Apartments and Piggott Galleries\, featuring over 200 items from ball gowns to court suits and handbags to jewellery. The exhibition draws fascinating parallels between the world of today’s red carpet and the Georgian Royal Court in the 18th century. \nSee up close Beyoncé’s look for the 2017 GRAMMY Awards\, designed by Peter Dundas\, and the custom Moschino chandelier-inspired outfit designed for Katy Perry and worn at the 2019 Met Gala. \nOther key iconic looks from recent years include Billy Porter’s “Sun God” outfit\, styled by Sam Ratelle and designed by The Blonds for the 2019 Met Gala\, and Kendall Jenner’s shimmering Hepburn-inspired Givenchy dress worn to the 2021 event. \nContrasted with these modern-day looks\, don’t miss the stunning yellow mantua on loan from National Museums Scotland\, the widest surviving court gown in Britain at nearly three metres\, plus the exquisite Rockingham Mantua\, one of several objects from Historic Royal Palaces’ Royal Ceremonial Dress Collection. \n\n\n\nEvent Details
URL:https://www.textilesociety.org.uk/event/crown-to-couture
LOCATION:Kensington Palace\, Kensington Gardens\, London\, W8 4PX
CATEGORIES:Other Events
ATTACH;FMTTYPE=image/jpeg:https://www.textilesociety.org.uk/wp-content/uploads/2023/10/Kensington.jpg
END:VEVENT
END:VCALENDAR