BEGIN:VCALENDAR
VERSION:2.0
PRODID:-//The Textile Society - ECPv5.16.4//NONSGML v1.0//EN
CALSCALE:GREGORIAN
METHOD:PUBLISH
X-WR-CALNAME:The Textile Society
X-ORIGINAL-URL:https://www.textilesociety.org.uk
X-WR-CALDESC:Events for The Textile Society
BEGIN:VTIMEZONE
TZID:Europe/London
BEGIN:DAYLIGHT
TZOFFSETFROM:+0000
TZOFFSETTO:+0100
TZNAME:BST
DTSTART:20220327T010000
END:DAYLIGHT
BEGIN:STANDARD
TZOFFSETFROM:+0100
TZOFFSETTO:+0000
TZNAME:GMT
DTSTART:20221030T010000
END:STANDARD
END:VTIMEZONE
BEGIN:VEVENT
DTSTART;TZID=Europe/London:20221009T100000
DTEND;TZID=Europe/London:20221009T160000
DTSTAMP:20260420T210448
CREATED:20200225T174115Z
LAST-MODIFIED:20220910T134514Z
UID:15591-1665309600-1665331200@www.textilesociety.org.uk
SUMMARY:London Antique & Vintage Textile Fair
DESCRIPTION:TEXTILE SOCIETY EVENT\n\n\n\n\n\n\n\n\n\n\n\n\n\n\n	The Textile Society annual collectors’ fair in Chelsea.\n\n\n\n\n\n\n\n\n\n\n\n\n\n\nThe Textile Society London Antique Textile Fair offers an outstanding range of vintage fashion\, antique textiles and costume sourced from around the world. Textiles from the 18th century up to the swinging 1960s and 70s\, furnishings including pre-1950s rugs\, and unique fashion accessories can be found here. Visitors can explore the fair for secondhand books\, ephemera and advice on textile conservation. \nWhether a textile designer or student looking for design inspiration\, a collector looking for a unique addition\, or just a visitor wanting to browse beautiful materials and objects\, this fair cannot be missed. \nProceeds from the Textile Society fairs and events provide student bursaries\, professional development\, and museum and conservation awards. These awards reflect the Society’s commitment to supporting education and promoting knowledge within the breadth of textile disciplines. \nEntry times: \n10am for Trade/Early Bird tickets holders and Textile Society Members \n12pm for General Entry/Student ticket holders \n\n\n\n\n\n\n\n\n\n\n\n\n\n\n\n\n\n\n\n\n\n\n\n\n\n\n\n\nClick the button below to purchase your ticket via Eventbrite \n\nBuy tickets\n\n\n\nIf you have any queries or wish to enquire about taking a stand at the fair please contact our London Fair Coordinator at atflondon@textilesociety.org.uk \n 
URL:https://www.textilesociety.org.uk/event/london-antique-vintage-textile-fair
LOCATION:Chelsea Old Town Hall\, Chelsea Old Town Hall\, London\, SW3 5EE\, United Kingdom
CATEGORIES:Textile Society Events
ATTACH;FMTTYPE=image/jpeg:https://www.textilesociety.org.uk/wp-content/uploads/2020/02/Event-front-page-London-AVTF-2-1.jpg
ORGANIZER;CN="London%20Fair%20Coordinator":MAILTO:atflondon@textilesociety.org.uk
END:VEVENT
END:VCALENDAR