BEGIN:VCALENDAR
VERSION:2.0
PRODID:-//The Textile Society - ECPv5.16.4//NONSGML v1.0//EN
CALSCALE:GREGORIAN
METHOD:PUBLISH
X-WR-CALNAME:The Textile Society
X-ORIGINAL-URL:https://www.textilesociety.org.uk
X-WR-CALDESC:Events for The Textile Society
BEGIN:VTIMEZONE
TZID:Europe/London
BEGIN:DAYLIGHT
TZOFFSETFROM:+0000
TZOFFSETTO:+0100
TZNAME:BST
DTSTART:20250330T010000
END:DAYLIGHT
BEGIN:STANDARD
TZOFFSETFROM:+0100
TZOFFSETTO:+0000
TZNAME:GMT
DTSTART:20251026T010000
END:STANDARD
END:VTIMEZONE
BEGIN:VEVENT
DTSTART;TZID=Europe/London:20250823T100000
DTEND;TZID=Europe/London:20251011T170000
DTSTAMP:20260423T092133
CREATED:20250806T033021Z
LAST-MODIFIED:20250906T035241Z
UID:19506-1755943200-1760202000@www.textilesociety.org.uk
SUMMARY:Warped and Wasted
DESCRIPTION:This ambitious exhibition will showcase an experimental\, large-scale\, collaborative art installation\, made with 100% waste\, existing second-hand or biodegradable materials.  \n\n\n\n\n\n\n\n\n\n\n\n\n\n\nThis collaboration between 14 seam collective artists is an ambitious project which will highlight the issues surrounding textile waste and care for the environment. \nThe Warped and Wasted exhibition will be supported by Textile Talks\, a one-day symposium on Friday 3 October 2025\, both online and in-person. seam collective invites the public and their peers in the fields of textiles\, visual arts and sustainability to join the conversation as they\, and invited speakers\, discuss issues of textiles and sustainability and add to the critical dialogue around sustainable arts practices locally\, nationally and internationally. \n\nThis project is supported using public funding by the National Lottery through Arts Council England and has been made possible by the many individuals who donated to the seam collective Crowdfunder. \nWarped and Wasted will be an inspiring experience\, which will provoke thought\, conversation and action around the complex issues of textiles\, sustainable art practices and the climate emergency. \n\n\n\n\nEvent Details
URL:https://www.textilesociety.org.uk/event/warped-and-wasted
LOCATION:ACEarts\, Market Square\, Somerton\, Somerset\, TA11 7NB\, United Kingdom
CATEGORIES:Other Events
ATTACH;FMTTYPE=image/webp:https://www.textilesociety.org.uk/wp-content/uploads/2025/09/angie.jpg.webp
ORGANIZER;CN="seam%20Collective":MAILTO:seam.enquiries@gmail.com
END:VEVENT
END:VCALENDAR